BEGIN:VCALENDAR
VERSION:2.0
METHOD:PUBLISH
X-WR-CALNAME:Saint Rose of Lima Catholic Church |  March 15 2020- March 22 2020
PRODID:-//strange bird labs//Drupal iCal API//EN
BEGIN:VEVENT
DTSTAMP;VALUE=DATE-TIME:20260421T001412Z
DTSTART;VALUE=DATE-TIME:20200315T140000Z
DTEND;VALUE=DATE-TIME:20200315T140000Z
UID:http://www.saintrosequincy.org/content/masses-march-15-third-sunday-lent
URL;VALUE=URI:http://www.saintrosequincy.org/content/masses-march-15-third-sunday-lent
SUMMARY:Masses of March 15\: Third Sunday of Lent
DESCRIPTION:<p>Low Mass at 8\:00am\; High Mass at 11\:00am.&nbsp\; Please join us in the church hall for refreshments after either Mass.</p>
 <p>Proper on page 376. Preface for Lent on page 880.</p>
 <p><em>We see Jesus today in open conflict with Satan and his works.&nbsp\; So also during Lent\, which is a time when the struggle against the old man is more intense\, should we &quot\;live as children of the light\,&quot\;&nbsp\;performing actions good\, just\, and true.</em></p>
END:VEVENT
BEGIN:VEVENT
DTSTAMP;VALUE=DATE-TIME:20260421T001412Z
DTSTART;VALUE=DATE-TIME:20200316T181000Z
DTEND;VALUE=DATE-TIME:20200316T181000Z
UID:http://www.saintrosequincy.org/content/mass-march-16-monday-third-week-lent
URL;VALUE=URI:http://www.saintrosequincy.org/content/mass-march-16-monday-third-week-lent
SUMMARY:Mass of March 16\: Monday of the Third Week of Lent
DESCRIPTION:<p>Proper on page 380. Preface for Lent on page 880.</p>
END:VEVENT
BEGIN:VEVENT
DTSTAMP;VALUE=DATE-TIME:20260421T001412Z
DTSTART;VALUE=DATE-TIME:20200317T181000Z
DTEND;VALUE=DATE-TIME:20200317T181000Z
UID:http://www.saintrosequincy.org/content/masses-march-17-st-patrick-bishop-and-confessor
URL;VALUE=URI:http://www.saintrosequincy.org/content/masses-march-17-st-patrick-bishop-and-confessor
SUMMARY:Masses of March 17\: St. Patrick\, Bishop and Confessor
DESCRIPTION:<p>Commemoration of Tuesday in the Third Week of Lent. Proper on page 1205 and 385. Preface for Lent on page 880.</p>
END:VEVENT
BEGIN:VEVENT
DTSTAMP;VALUE=DATE-TIME:20260421T001412Z
DTSTART;VALUE=DATE-TIME:20200318T181000Z
DTEND;VALUE=DATE-TIME:20200318T181000Z
UID:http://www.saintrosequincy.org/content/mass-march-18-wednesday-third-week-lent
URL;VALUE=URI:http://www.saintrosequincy.org/content/mass-march-18-wednesday-third-week-lent
SUMMARY:Mass of March 18\: Wednesday in the Third Week of Lent
DESCRIPTION:<p>Commemoration of St. Cyril of Jerusalem\, Bishop\, Confessor\, and Doctor of the Church. Proper on page 389 &amp\; 1205.</p>
 <p>&nbsp\;</p>
 <p>&nbsp\;</p>
 <p>&nbsp\;</p>
END:VEVENT
BEGIN:VEVENT
DTSTAMP;VALUE=DATE-TIME:20260421T001412Z
DTSTART;VALUE=DATE-TIME:20200319T130000Z
DTEND;VALUE=DATE-TIME:20200319T130000Z
UID:http://www.saintrosequincy.org/content/mass-march-19-st-joseph-spouse-blessed-virgin-mary-confessor
URL;VALUE=URI:http://www.saintrosequincy.org/content/mass-march-19-st-joseph-spouse-blessed-virgin-mary-confessor
SUMMARY:Mass of March 19\: St. Joseph\, Spouse of the Blessed Virgin Mary\, Confessor
DESCRIPTION:<p>Commemoration of Thursday in the Third Week of Lent. St. Joseph is the Patron Saint of the Universal Church.&nbsp\;Proper on pages 1208\, 393.&nbsp\; Preface of St. Joseph on page 885.</p>
END:VEVENT
BEGIN:VEVENT
DTSTAMP;VALUE=DATE-TIME:20260421T001412Z
DTSTART;VALUE=DATE-TIME:20200320T181000Z
DTEND;VALUE=DATE-TIME:20200320T181000Z
UID:http://www.saintrosequincy.org/content/mass-march-20-friday-third-week-lent
URL;VALUE=URI:http://www.saintrosequincy.org/content/mass-march-20-friday-third-week-lent
SUMMARY:Mass of March 20\: Friday of the Third Week in Lent
DESCRIPTION:<p>Commemoration of the Anniversary of the Coronation of a pope. Proper on page 397. Preface for Lent on page 880.</p>
 <p><a href=\\"http\://www.saintrosequincy.org/bulletins/2010-lent-insert.pdf\\">Rules for Fasting during Lent</a>.</p>
END:VEVENT
BEGIN:VEVENT
DTSTAMP;VALUE=DATE-TIME:20260421T001412Z
DTSTART;VALUE=DATE-TIME:20200321T140000Z
DTEND;VALUE=DATE-TIME:20200321T140000Z
UID:http://www.saintrosequincy.org/content/mass-march-21-saturday-third-week-lent
URL;VALUE=URI:http://www.saintrosequincy.org/content/mass-march-21-saturday-third-week-lent
SUMMARY:Mass of March 21\: Saturday of the Third Week in Lent
DESCRIPTION:<p>Commemoration of St. Benedict\, Abbot. Proper on page 403 and 1213.&nbsp\; Preface for Lent on page 880.<br />
 &nbsp\;</p>
 
END:VEVENT
END:VCALENDAR
