BEGIN:VCALENDAR
VERSION:2.0
METHOD:PUBLISH
X-WR-CALNAME:Saint Rose of Lima Catholic Church |  February 09 2020- February 16 2020
PRODID:-//strange bird labs//Drupal iCal API//EN
BEGIN:VEVENT
DTSTAMP;VALUE=DATE-TIME:20260423T024959Z
DTSTART;VALUE=DATE-TIME:20200209T140000Z
DTEND;VALUE=DATE-TIME:20200209T140000Z
UID:http://www.saintrosequincy.org/content/masses-feb-9-septuagesima-sunday
URL;VALUE=URI:http://www.saintrosequincy.org/content/masses-feb-9-septuagesima-sunday
SUMMARY:Masses of Feb. 9\: Septuagesima Sunday
DESCRIPTION:<p>
 <meta http-equiv=\\"content-type\\" content=\\"text/html\; charset=utf-8\\" /></p>
 <p>Low Mass at 8\:00am\; High Mass at 11\:00am. &nbsp\;Please join us for refreshments in the hall after either Mass.</p>
 <p><a href=\\"http\://docs.google.com/fileview?id=0B1xl9SYkj9yuOTJjNTlkZWItMTIyNy00YTUxLWI1MmQtMTM2Nzc3ZmJiMTQx&amp\;hl=en\\">Proper</a> on page 274.&nbsp\; Preface of the Most Holy Trinity on page 884.</p>
END:VEVENT
BEGIN:VEVENT
DTSTAMP;VALUE=DATE-TIME:20260423T024959Z
DTSTART;VALUE=DATE-TIME:20200210T181000Z
DTEND;VALUE=DATE-TIME:20200210T181000Z
UID:http://www.saintrosequincy.org/content/mass-feb-10-st-scholastica-virgin
URL;VALUE=URI:http://www.saintrosequincy.org/content/mass-feb-10-st-scholastica-virgin
SUMMARY:Mass of Feb. 10\: St. Scholastica\, Virgin
DESCRIPTION:<p>St. Scholastica was the sister of St. Benedict.&nbsp\; Embracing the rule of her brother\, she founded the Order of Benedictine nuns.&nbsp\; She died A.D. 543.</p>
 <p>Proper on pages 1181\, 1057.&nbsp\; Common Preface on page 886.</p>
END:VEVENT
BEGIN:VEVENT
DTSTAMP;VALUE=DATE-TIME:20260423T024959Z
DTSTART;VALUE=DATE-TIME:20200211T130000Z
DTEND;VALUE=DATE-TIME:20200211T130000Z
UID:http://www.saintrosequincy.org/content/mass-feb-11-our-lady-lourdes
URL;VALUE=URI:http://www.saintrosequincy.org/content/mass-feb-11-our-lady-lourdes
SUMMARY:Mass of Feb. 11\: Our Lady of Lourdes
DESCRIPTION:<p>This Feast commemorates the appearance of our Lady on several occasions in 1858 at Lourdes in France.<br />
 Proper on page 1182.&nbsp\; Preface of the Blessed Virgin Mary on page 884.</p>
 
END:VEVENT
BEGIN:VEVENT
DTSTAMP;VALUE=DATE-TIME:20260423T024959Z
DTSTART;VALUE=DATE-TIME:20200212T181000Z
DTEND;VALUE=DATE-TIME:20200212T181000Z
UID:http://www.saintrosequincy.org/content/mass-feb-12-seven-holy-servite-founders
URL;VALUE=URI:http://www.saintrosequincy.org/content/mass-feb-12-seven-holy-servite-founders
SUMMARY:Mass of Feb. 12\: Seven Holy Servite Founders
DESCRIPTION:<p>Seven noble Florentines founded in 1233 the Order of Servites of the Blessed Virgin Mary.&nbsp\; The Servites led an austere life\, meditating constantly on the Passion of Our Lord and venerating the Blessed Virgin as Our Lady of Sorrows.</p>
 <p>Proper on pages 1185\, 1045.&nbsp\; Common preface on page 886.</p>
 <p>&nbsp\;</p>
END:VEVENT
BEGIN:VEVENT
DTSTAMP;VALUE=DATE-TIME:20260423T024959Z
DTSTART;VALUE=DATE-TIME:20200213T130000Z
DTEND;VALUE=DATE-TIME:20200213T130000Z
UID:http://www.saintrosequincy.org/content/mass-feb-13-jesus-christ-high-priest
URL;VALUE=URI:http://www.saintrosequincy.org/content/mass-feb-13-jesus-christ-high-priest
SUMMARY:Mass of Feb. 13\: Jesus Christ the High Priest
DESCRIPTION:<p>Proper on page 229.  Common Preface on page 886.</p>
 
END:VEVENT
BEGIN:VEVENT
DTSTAMP;VALUE=DATE-TIME:20260423T024959Z
DTSTART;VALUE=DATE-TIME:20200214T181000Z
DTEND;VALUE=DATE-TIME:20200214T181000Z
UID:http://www.saintrosequincy.org/content/mass-feb-14-st-valentine-priest-martyr
URL;VALUE=URI:http://www.saintrosequincy.org/content/mass-feb-14-st-valentine-priest-martyr
SUMMARY:Mass of Feb. 14\: St. Valentine\, Priest & Martyr
DESCRIPTION:<p>This holy Roman priest\, St. Valentine\, assisted with other pious Christians a great number of martyrs.&nbsp\; He was beheaded under Aurelian\, A.D. 270.</p>
 <p>Proper on pages 1188\, 993.&nbsp\; Common Preface on page 886.</p>
 <p>&nbsp\;</p>
END:VEVENT
BEGIN:VEVENT
DTSTAMP;VALUE=DATE-TIME:20260423T024959Z
DTSTART;VALUE=DATE-TIME:20200215T140000Z
DTEND;VALUE=DATE-TIME:20200215T140000Z
UID:http://www.saintrosequincy.org/content/mass-feb-15-saturday-our-lady-comm-ss-faustinus-jovita-martyrs
URL;VALUE=URI:http://www.saintrosequincy.org/content/mass-feb-15-saturday-our-lady-comm-ss-faustinus-jovita-martyrs
SUMMARY:Mass of Feb. 15\: Saturday of Our Lady\; Comm. of Ss. Faustinus & Jovita\, Martyrs
DESCRIPTION:<p>Proper on pages 1448\, 1189. Preface of the Blessed Virgin on page 884.</p>
END:VEVENT
END:VCALENDAR
