BEGIN:VCALENDAR
VERSION:2.0
METHOD:PUBLISH
X-WR-CALNAME:Saint Rose of Lima Catholic Church |  August 25 2019- September 01 2019
PRODID:-//strange bird labs//Drupal iCal API//EN
BEGIN:VEVENT
DTSTAMP;VALUE=DATE-TIME:20260421T153028Z
DTSTART;VALUE=DATE-TIME:20190825T140000Z
DTEND;VALUE=DATE-TIME:20190825T140000Z
UID:http://www.saintrosequincy.org/content/masses-aug-25-eleventh-sunday-after-pentecost
URL;VALUE=URI:http://www.saintrosequincy.org/content/masses-aug-25-eleventh-sunday-after-pentecost
SUMMARY:Masses of Aug. 25\: Eleventh Sunday after Pentecost
DESCRIPTION:<p>Low Mass at 8\:00am\; High Mass at 10\:30am.&nbsp\; Proper on page 800. &nbsp\;Preface of the Most Holy Trinity on page 884.&nbsp\;<br />
 Everyone is invited to the hall after both Masses for coffee\, juice\, and donuts.</p>
 
END:VEVENT
BEGIN:VEVENT
DTSTAMP;VALUE=DATE-TIME:20260421T153028Z
DTSTART;VALUE=DATE-TIME:20190826T181000Z
DTEND;VALUE=DATE-TIME:20190826T181000Z
UID:http://www.saintrosequincy.org/content/mass-aug-26-st-zephyrinus-pope-martyr
URL;VALUE=URI:http://www.saintrosequincy.org/content/mass-aug-26-st-zephyrinus-pope-martyr
SUMMARY:Mass of Aug. 26\: St. Zephyrinus\, Pope & Martyr
DESCRIPTION:<p>Proper on pages 1457\, 981.&nbsp\; Common Preface on page 886.</p>
 
END:VEVENT
BEGIN:VEVENT
DTSTAMP;VALUE=DATE-TIME:20260421T153028Z
DTSTART;VALUE=DATE-TIME:20190827T130000Z
DTEND;VALUE=DATE-TIME:20190827T130000Z
UID:http://www.saintrosequincy.org/content/mass-aug-27-st-joseph-calasanctius-confessor
URL;VALUE=URI:http://www.saintrosequincy.org/content/mass-aug-27-st-joseph-calasanctius-confessor
SUMMARY:Mass of Aug. 27\: St. Joseph Calasanctius\, Confessor
DESCRIPTION:<p>Proper on pages 1457\, 994\, 1504.&nbsp\; Common Preface on page 886.</p>
END:VEVENT
BEGIN:VEVENT
DTSTAMP;VALUE=DATE-TIME:20260421T153028Z
DTSTART;VALUE=DATE-TIME:20190828T181000Z
DTEND;VALUE=DATE-TIME:20190828T181000Z
UID:http://www.saintrosequincy.org/content/mass-aug-28-st-augustine-bishop-confessor-doctor-church
URL;VALUE=URI:http://www.saintrosequincy.org/content/mass-aug-28-st-augustine-bishop-confessor-doctor-church
SUMMARY:Mass of Aug. 28\: St. Augustine\, Bishop\, Confessor\, & Doctor of the Church
DESCRIPTION:<p>Also the Commemoration of St. Hermes\, Martyr.<br />
 Proper on pages 1459\, 1032.</p>
 
END:VEVENT
BEGIN:VEVENT
DTSTAMP;VALUE=DATE-TIME:20260421T153028Z
DTSTART;VALUE=DATE-TIME:20190829T181000Z
DTEND;VALUE=DATE-TIME:20190829T181000Z
UID:http://www.saintrosequincy.org/content/mass-aug-29-beheading-st-john-baptist
URL;VALUE=URI:http://www.saintrosequincy.org/content/mass-aug-29-beheading-st-john-baptist
SUMMARY:Mass of Aug. 29\: The Beheading of St. John the Baptist
DESCRIPTION:<p>Also the Commemoration of <strong>St. Sabina\, Martyr</strong>.</p>
 <p>Proper on pages 1460\, 1048.&nbsp\; Common Preface on page 886.</p>
END:VEVENT
BEGIN:VEVENT
DTSTAMP;VALUE=DATE-TIME:20260421T153028Z
DTSTART;VALUE=DATE-TIME:20190830T130000Z
DTEND;VALUE=DATE-TIME:20190830T130000Z
UID:http://www.saintrosequincy.org/content/mass-aug-30-st-rose-lima-virgin
URL;VALUE=URI:http://www.saintrosequincy.org/content/mass-aug-30-st-rose-lima-virgin
SUMMARY:Mass of Aug. 30\: St. Rose of Lima\, Virgin
DESCRIPTION:<p>Also the Commemoration of <em>Ss. Felix and Adauctus\, Martyrs</em>.</p>
 <p>Proper on pages 1464\, 1057. &nbsp\;Common Preface on page 886.</p>
END:VEVENT
BEGIN:VEVENT
DTSTAMP;VALUE=DATE-TIME:20260421T153028Z
DTSTART;VALUE=DATE-TIME:20190831T140000Z
DTEND;VALUE=DATE-TIME:20190831T140000Z
UID:http://www.saintrosequincy.org/content/mass-aug-31-st-ryamond-nonnatus-confessor
URL;VALUE=URI:http://www.saintrosequincy.org/content/mass-aug-31-st-ryamond-nonnatus-confessor
SUMMARY:Mass of Aug. 31\: St. Ryamond Nonnatus\, Confessor
DESCRIPTION:<p>Proper on pages 1467\, 1037.&nbsp\; Common Preface on page 886.</p>
 
END:VEVENT
END:VCALENDAR
