BEGIN:VCALENDAR
VERSION:2.0
METHOD:PUBLISH
X-WR-CALNAME:Saint Rose of Lima Catholic Church |  August 04 2019- August 11 2019
PRODID:-//strange bird labs//Drupal iCal API//EN
BEGIN:VEVENT
DTSTAMP;VALUE=DATE-TIME:20260419T024008Z
DTSTART;VALUE=DATE-TIME:20190804T140000Z
DTEND;VALUE=DATE-TIME:20190804T140000Z
UID:http://www.saintrosequincy.org/content/masses-aug-4-eighth-sunday-after-pentecost
URL;VALUE=URI:http://www.saintrosequincy.org/content/masses-aug-4-eighth-sunday-after-pentecost
SUMMARY:Masses of Aug 4\: Eighth Sunday after Pentecost
DESCRIPTION:<p>Low Mass at 8\:00 am\; High Mass at 10\:30 am.&nbsp\; Coffee and donuts in the Hall after both Masses.<br />
 Proper on page 789.&nbsp\; Preface of the Most Holy Trinity on page 884.</p>
 
END:VEVENT
BEGIN:VEVENT
DTSTAMP;VALUE=DATE-TIME:20260419T024008Z
DTSTART;VALUE=DATE-TIME:20190805T181000Z
DTEND;VALUE=DATE-TIME:20190805T181000Z
UID:http://www.saintrosequincy.org/content/mass-aug-5-dedication-basilica-st-mary-major
URL;VALUE=URI:http://www.saintrosequincy.org/content/mass-aug-5-dedication-basilica-st-mary-major
SUMMARY:Mass of Aug. 5\: Dedication of the Basilica of St. Mary Major
DESCRIPTION:<p>Proper on page 1408. Common Preface on page 886.</p>
 <p>&nbsp\;</p>
 <p>&nbsp\;</p>
 <p>&nbsp\;</p>
END:VEVENT
BEGIN:VEVENT
DTSTAMP;VALUE=DATE-TIME:20260419T024008Z
DTSTART;VALUE=DATE-TIME:20190806T130000Z
DTEND;VALUE=DATE-TIME:20190806T130000Z
UID:http://www.saintrosequincy.org/content/mass-aug-6-transfiguration-our-lord-jesus-christ
URL;VALUE=URI:http://www.saintrosequincy.org/content/mass-aug-6-transfiguration-our-lord-jesus-christ
SUMMARY:Mass of Aug. 6\: Transfiguration of Our Lord Jesus Christ
DESCRIPTION:<p>Also the Commemoration of Ss. Sixtus II &amp\;&nbsp\;Companions\, Martyrs.<br />
 Proper on pages 1412\, 347.&nbsp\; Preface of the Most Holy Trinity on page 884.</p>
 
END:VEVENT
BEGIN:VEVENT
DTSTAMP;VALUE=DATE-TIME:20260419T024008Z
DTSTART;VALUE=DATE-TIME:20190807T181000Z
DTEND;VALUE=DATE-TIME:20190807T181000Z
UID:http://www.saintrosequincy.org/content/mass-aug-7-st-cajetan-confessor
URL;VALUE=URI:http://www.saintrosequincy.org/content/mass-aug-7-st-cajetan-confessor
SUMMARY:Mass of Aug. 7\: St. Cajetan\, Confessor
DESCRIPTION:<p>Also the Commemoration of <em>St. Donatus\, Bishop and Martyr</em>.</p>
 <p>Proper on pages 1416\, 814\, 1043.&nbsp\; Common Preface on page 886.</p>
END:VEVENT
BEGIN:VEVENT
DTSTAMP;VALUE=DATE-TIME:20260419T024008Z
DTSTART;VALUE=DATE-TIME:20190808T181000Z
DTEND;VALUE=DATE-TIME:20190808T181000Z
UID:http://www.saintrosequincy.org/content/mass-aug-8-st-john-marie-vianney-confessor
URL;VALUE=URI:http://www.saintrosequincy.org/content/mass-aug-8-st-john-marie-vianney-confessor
SUMMARY:Mass of Aug. 8\: St. John Marie Vianney\, Confessor
END:VEVENT
BEGIN:VEVENT
DTSTAMP;VALUE=DATE-TIME:20260419T024008Z
DTSTART;VALUE=DATE-TIME:20190809T130000Z
DTEND;VALUE=DATE-TIME:20190809T130000Z
UID:http://www.saintrosequincy.org/content/mass-aug-9-vigil-st-lawrence-deacon-and-martyr
URL;VALUE=URI:http://www.saintrosequincy.org/content/mass-aug-9-vigil-st-lawrence-deacon-and-martyr
SUMMARY:Mass of Aug. 9\: Vigil of St. Lawrence\, Deacon and Martyr
DESCRIPTION:<p>Also the Commemoration of <em>St. Romanus\, Martyr</em>.</p>
 <p>Proper on pages 1422\, 998\, 1048\, 991\, 996. &nbsp\;Common Preface on page 886.</p>
END:VEVENT
BEGIN:VEVENT
DTSTAMP;VALUE=DATE-TIME:20260419T024008Z
DTSTART;VALUE=DATE-TIME:20190810T140000Z
DTEND;VALUE=DATE-TIME:20190810T140000Z
UID:http://www.saintrosequincy.org/content/mass-aug-10-st-lawrence-deacon-and-martyr
URL;VALUE=URI:http://www.saintrosequincy.org/content/mass-aug-10-st-lawrence-deacon-and-martyr
SUMMARY:Mass of Aug. 10\: St. Lawrence\, Deacon and Martyr
DESCRIPTION:<p>Proper on pages 1425\, 1162.&nbsp\; Common Preface on page 886.</p>
END:VEVENT
END:VCALENDAR
