BEGIN:VCALENDAR
VERSION:2.0
METHOD:PUBLISH
X-WR-CALNAME:Saint Rose of Lima Catholic Church |  June 16 2019- June 23 2019
PRODID:-//strange bird labs//Drupal iCal API//EN
BEGIN:VEVENT
DTSTAMP;VALUE=DATE-TIME:20260419T025106Z
DTSTART;VALUE=DATE-TIME:20190619T181000Z
DTEND;VALUE=DATE-TIME:20190619T181000Z
UID:http://www.saintrosequincy.org/content/mass-june-19-st-juliana-falconieri-virgin
URL;VALUE=URI:http://www.saintrosequincy.org/content/mass-june-19-st-juliana-falconieri-virgin
SUMMARY:Mass of June 19\: St. Juliana Falconieri\, Virgin
DESCRIPTION:<p>Commemoration of Ss. Gervase &amp\; Protase\, Martyrs.</p>
 <p>Proper on pages 1310\, 1057. &nbsp\;Common Preface on page 886.</p>
END:VEVENT
BEGIN:VEVENT
DTSTAMP;VALUE=DATE-TIME:20260419T025106Z
DTSTART;VALUE=DATE-TIME:20190621T130000Z
DTEND;VALUE=DATE-TIME:20190621T130000Z
UID:http://www.saintrosequincy.org/content/mass-june-21-st-aloysius-gonzaga-confessor
URL;VALUE=URI:http://www.saintrosequincy.org/content/mass-june-21-st-aloysius-gonzaga-confessor
SUMMARY:Mass of June 21\: St. Aloysius Gonzaga\, Confessor
DESCRIPTION:<p>Proper on pages 1313\, 1038. &nbsp\;Common Preface on page 886.</p>
END:VEVENT
END:VCALENDAR
