BEGIN:VCALENDAR
VERSION:2.0
METHOD:PUBLISH
X-WR-CALNAME:Saint Rose of Lima Catholic Church |  March 24 2019- March 31 2019
PRODID:-//strange bird labs//Drupal iCal API//EN
BEGIN:VEVENT
DTSTAMP;VALUE=DATE-TIME:20260418T184327Z
DTSTART;VALUE=DATE-TIME:20190328T181000Z
DTEND;VALUE=DATE-TIME:20190328T181000Z
UID:http://www.saintrosequincy.org/content/mass-march-28-thursday-third-week-lent
URL;VALUE=URI:http://www.saintrosequincy.org/content/mass-march-28-thursday-third-week-lent
SUMMARY:Mass of March 28\: Thursday of the Third Week in Lent
DESCRIPTION:<p>Also the Commemoration of St. John of Capistrano\, Confessor.</p>
 <p>Proper on pages 393 and 1223. Preface for Lent on page 880.</p>
END:VEVENT
BEGIN:VEVENT
DTSTAMP;VALUE=DATE-TIME:20260418T184327Z
DTSTART;VALUE=DATE-TIME:20190329T233000Z
DTEND;VALUE=DATE-TIME:20190329T233000Z
UID:http://www.saintrosequincy.org/content/march-29-stations-cross
URL;VALUE=URI:http://www.saintrosequincy.org/content/march-29-stations-cross
SUMMARY:March 29\: Stations of the Cross
DESCRIPTION:<p>Stations of the Cross will be held at 5\:30 pm on every Friday of Lent\, except on Good Friday\, when they will be at 12\:10 pm.</p>
 
END:VEVENT
END:VCALENDAR
