BEGIN:VCALENDAR
VERSION:2.0
METHOD:PUBLISH
X-WR-CALNAME:Saint Rose of Lima Catholic Church |  January 31 2019- March 02 2019
PRODID:-//strange bird labs//Drupal iCal API//EN
BEGIN:VEVENT
DTSTAMP;VALUE=DATE-TIME:20260421T104619Z
DTSTART;VALUE=DATE-TIME:20190202T140000Z
DTEND;VALUE=DATE-TIME:20190202T140000Z
UID:http://www.saintrosequincy.org/content/mass-feb-2-purification-blessed-virgin-mary
URL;VALUE=URI:http://www.saintrosequincy.org/content/mass-feb-2-purification-blessed-virgin-mary
SUMMARY:Mass of Feb. 2\: The Purification of the Blessed Virgin Mary
DESCRIPTION:<p>Mass at 8\:00 am. (Candlemas Procession on Sunday\, February 3 at 10\:30am.)<br />
 Proper on p. 1164\, 879.&nbsp\; Preface of the Nativity on page 879.<br />
 &nbsp\;</p>
 
END:VEVENT
BEGIN:VEVENT
DTSTAMP;VALUE=DATE-TIME:20260421T104619Z
DTSTART;VALUE=DATE-TIME:20190209T140000Z
DTEND;VALUE=DATE-TIME:20190209T140000Z
UID:http://www.saintrosequincy.org/content/mass-feb-9-st-cyril-alexandria-bishop-confessor-doctor-church
URL;VALUE=URI:http://www.saintrosequincy.org/content/mass-feb-9-st-cyril-alexandria-bishop-confessor-doctor-church
SUMMARY:Mass of Feb. 9\: St. Cyril of Alexandria\, Bishop\, Confessor\, & Doctor of the Church
DESCRIPTION:<p>St. Cyril\, Bishop of Alexandria\, fought with his pen and his eloquence against the Nestorians.&nbsp\; He presided in the name of Pope Celestine at the great Council of Ephesus\, where the heresy of Nestorius was condemned\, and he successfully defended the truth concerning the Mother of God and our Savior in His twofold nature of God and Man.&nbsp\; He died A.D. 444.</p>
 <p>Also\: <strong>Commemoration of St. Apollonia\, </strong><em><strong>Virgin\, Martyr</strong></em></p>
 <p>St. Apollonia\, Virgin of Alexandria\, after having her teeth broken\, cast herself into the flames prepared for her\, under the emporer Decius\, A.D. 259.</p>
 <p>Proper on p. 1180\, 1032\, 1048.&nbsp\; Common Preface on p. 886.</p>
 <p>&nbsp\;</p>
END:VEVENT
BEGIN:VEVENT
DTSTAMP;VALUE=DATE-TIME:20260421T104619Z
DTSTART;VALUE=DATE-TIME:20190210T140000Z
DTEND;VALUE=DATE-TIME:20190210T140000Z
UID:http://www.saintrosequincy.org/content/masses-feb-10-5th-sunday-after-epiphany
URL;VALUE=URI:http://www.saintrosequincy.org/content/masses-feb-10-5th-sunday-after-epiphany
SUMMARY:Masses of Feb. 10\: 5th Sunday after Epiphany
DESCRIPTION:<p>Low Mass at 8\:00am\; High Mass at 10\:30am.&nbsp\; Proper on page 266. Preface of the Holy Trinity on page 884. Please join us for refreshments in the hall after either Mass.</p>
END:VEVENT
BEGIN:VEVENT
DTSTAMP;VALUE=DATE-TIME:20260421T104619Z
DTSTART;VALUE=DATE-TIME:20190216T140000Z
DTEND;VALUE=DATE-TIME:20190216T140000Z
UID:http://www.saintrosequincy.org/content/mass-feb-16-saturday-our-lady
URL;VALUE=URI:http://www.saintrosequincy.org/content/mass-feb-16-saturday-our-lady
SUMMARY:Mass of Feb. 16\: Saturday of Our Lady
DESCRIPTION:<p>Proper on page 1090.&nbsp\; Preface of the Blessed Virgin Mary on page 884.</p>
 
END:VEVENT
BEGIN:VEVENT
DTSTAMP;VALUE=DATE-TIME:20260421T104619Z
DTSTART;VALUE=DATE-TIME:20190219T130000Z
DTEND;VALUE=DATE-TIME:20190219T130000Z
UID:http://www.saintrosequincy.org/content/mass-feb-19-votive-mass-15-priestly-vocations
URL;VALUE=URI:http://www.saintrosequincy.org/content/mass-feb-19-votive-mass-15-priestly-vocations
SUMMARY:Mass of Feb. 19\: Votive Mass #15 for Priestly Vocations
DESCRIPTION:<p>Proper on leaflet available at the entrance. &nbsp\;Common Preface on page 886.&nbsp\;</p>
END:VEVENT
BEGIN:VEVENT
DTSTAMP;VALUE=DATE-TIME:20260421T104619Z
DTSTART;VALUE=DATE-TIME:20190223T140000Z
DTEND;VALUE=DATE-TIME:20190223T140000Z
UID:http://www.saintrosequincy.org/content/mass-feb-23-st-peter-damian-bishop-confessor-doctor
URL;VALUE=URI:http://www.saintrosequincy.org/content/mass-feb-23-st-peter-damian-bishop-confessor-doctor
SUMMARY:Mass of Feb. 23\: St. Peter Damian\, Bishop\, Confessor & Doctor
DESCRIPTION:<p>Proper on pages 1190\, 1032. &nbsp\;Common Preface on page 886.&nbsp\;</p>
END:VEVENT
BEGIN:VEVENT
DTSTAMP;VALUE=DATE-TIME:20260421T104619Z
DTSTART;VALUE=DATE-TIME:20190225T181000Z
DTEND;VALUE=DATE-TIME:20190225T181000Z
UID:http://www.saintrosequincy.org/content/mass-feb-25-votive-mass-perseverance-priestly-vocations
URL;VALUE=URI:http://www.saintrosequincy.org/content/mass-feb-25-votive-mass-perseverance-priestly-vocations
SUMMARY:Mass of Feb. 25\: Votive Mass for the Perseverance of Priestly Vocations
DESCRIPTION:<p>Proper on leaflet available at the entrance. &nbsp\;Common Preface on page 886.&nbsp\;</p>
END:VEVENT
BEGIN:VEVENT
DTSTAMP;VALUE=DATE-TIME:20260421T104619Z
DTSTART;VALUE=DATE-TIME:20190227T181000Z
DTEND;VALUE=DATE-TIME:20190227T181000Z
UID:http://www.saintrosequincy.org/content/mass-feb-27-st-gabriel-our-lady-sorrows-confessor
URL;VALUE=URI:http://www.saintrosequincy.org/content/mass-feb-27-st-gabriel-our-lady-sorrows-confessor
SUMMARY:Mass of Feb. 27\: St. Gabriel of Our Lady of Sorrows\, Confessor
DESCRIPTION:<p>Proper on page 1195. Common Preface on page 886.</p>
 <p>&nbsp\;</p>
 <p>&nbsp\;</p>
END:VEVENT
BEGIN:VEVENT
DTSTAMP;VALUE=DATE-TIME:20260421T104619Z
DTSTART;VALUE=DATE-TIME:20190228T181000Z
DTEND;VALUE=DATE-TIME:20190228T181000Z
UID:http://www.saintrosequincy.org/content/mass-feb-28-votive-mass-17-religious-vocations
URL;VALUE=URI:http://www.saintrosequincy.org/content/mass-feb-28-votive-mass-17-religious-vocations
SUMMARY:Mass of Feb. 28\: Votive Mass #17 for Religious Vocations
DESCRIPTION:<p>Proper on leaflet available at the entrance. &nbsp\;Common Preface on page 886.&nbsp\;</p>
END:VEVENT
BEGIN:VEVENT
DTSTAMP;VALUE=DATE-TIME:20260421T104619Z
DTSTART;VALUE=DATE-TIME:20190301T130000Z
DTEND;VALUE=DATE-TIME:20190301T130000Z
UID:http://www.saintrosequincy.org/content/masses-march-1-votive-mass-sacred-heart-first-friday
URL;VALUE=URI:http://www.saintrosequincy.org/content/masses-march-1-votive-mass-sacred-heart-first-friday
SUMMARY:Masses of March 1\: Votive Mass of the Sacred Heart\; First Friday
DESCRIPTION:<p>Masses at 7\:00 am and 6\:00 pm.<br />
 Proper on page 763.&nbsp\; Preface of the Sacred Heart on page 882.</p>
 
END:VEVENT
END:VCALENDAR
