BEGIN:VCALENDAR
VERSION:2.0
METHOD:PUBLISH
X-WR-CALNAME:Saint Rose of Lima Catholic Church |  January 02 2019- February 01 2019
PRODID:-//strange bird labs//Drupal iCal API//EN
BEGIN:VEVENT
DTSTAMP;VALUE=DATE-TIME:20260421T091404Z
DTSTART;VALUE=DATE-TIME:20190107T181000Z
DTEND;VALUE=DATE-TIME:20190107T181000Z
UID:http://www.saintrosequincy.org/content/mass-jan-7-daily-mass-dead
URL;VALUE=URI:http://www.saintrosequincy.org/content/mass-jan-7-daily-mass-dead
SUMMARY:Mass of Jan. 7\: Daily Mass for the Dead
DESCRIPTION:<p>Proper on page 1569. Preface of the Dead on page 886.</p>
END:VEVENT
BEGIN:VEVENT
DTSTAMP;VALUE=DATE-TIME:20260421T091404Z
DTSTART;VALUE=DATE-TIME:20190109T181000Z
DTEND;VALUE=DATE-TIME:20190109T181000Z
UID:http://www.saintrosequincy.org/content/mass-jan-9-votive-mass-17-religious-vocations
URL;VALUE=URI:http://www.saintrosequincy.org/content/mass-jan-9-votive-mass-17-religious-vocations
SUMMARY:Mass of Jan. 9\: Votive Mass #17 for Religious Vocations
DESCRIPTION:<p>The proper may be found on a leaflet in the vestibule.</p>
 
END:VEVENT
BEGIN:VEVENT
DTSTAMP;VALUE=DATE-TIME:20260421T091404Z
DTSTART;VALUE=DATE-TIME:20190110T181000Z
DTEND;VALUE=DATE-TIME:20190110T181000Z
UID:http://www.saintrosequincy.org/content/mass-jan-10-votive-mass-15-priestly-vocations
URL;VALUE=URI:http://www.saintrosequincy.org/content/mass-jan-10-votive-mass-15-priestly-vocations
SUMMARY:Mass of Jan. 10\: Votive Mass #15 for Priestly Vocations
DESCRIPTION:<p>The proper can be found on a leaflet in the vestibule.</p>
END:VEVENT
BEGIN:VEVENT
DTSTAMP;VALUE=DATE-TIME:20260421T091404Z
DTSTART;VALUE=DATE-TIME:20190119T140000Z
DTEND;VALUE=DATE-TIME:20190119T140000Z
UID:http://www.saintrosequincy.org/content/mass-jan-19-ss-marius-martha-audifax-and-abachum-martyrs
URL;VALUE=URI:http://www.saintrosequincy.org/content/mass-jan-19-ss-marius-martha-audifax-and-abachum-martyrs
SUMMARY:Mass of Jan. 19\: Ss. Marius\, Martha\, Audifax\, and Abachum\, Martyrs
DESCRIPTION:<p>Also the Commemoration of <em>St. Canute\, Martyr</em>.<br />
 Proper on pages 1139\, 1010\, 1013\, 999.&nbsp\; Common Preface on page 886.</p>
 
END:VEVENT
BEGIN:VEVENT
DTSTAMP;VALUE=DATE-TIME:20260421T091404Z
DTSTART;VALUE=DATE-TIME:20190126T140000Z
DTEND;VALUE=DATE-TIME:20190126T140000Z
UID:http://www.saintrosequincy.org/content/mass-jan-26-st-polycarp-bishop-martyr
URL;VALUE=URI:http://www.saintrosequincy.org/content/mass-jan-26-st-polycarp-bishop-martyr
SUMMARY:Mass of Jan. 26\: St. Polycarp\, Bishop & Martyr
DESCRIPTION:<p>St. Polycarp\, a disciple of St. John the Apostle\, was Bishop of Smyrna for seventy years\, and was martyred under Marcus Aurelius A.D. 169.<br />
 Proper on pages 1153\, 990\, 886.&nbsp\; Common Preface on page 886.<br />
 &nbsp\;</p>
 
END:VEVENT
END:VCALENDAR
