BEGIN:VCALENDAR
VERSION:2.0
METHOD:PUBLISH
X-WR-CALNAME:Saint Rose of Lima Catholic Church |  November 24 2018- December 24 2018
PRODID:-//strange bird labs//Drupal iCal API//EN
BEGIN:VEVENT
DTSTAMP;VALUE=DATE-TIME:20260421T155030Z
DTSTART;VALUE=DATE-TIME:20181124T140000Z
DTEND;VALUE=DATE-TIME:20181124T140000Z
UID:http://www.saintrosequincy.org/content/mass-nov-24-st-john-cross-confessor-doctor-church
URL;VALUE=URI:http://www.saintrosequincy.org/content/mass-nov-24-st-john-cross-confessor-doctor-church
SUMMARY:Mass of Nov. 24\: St. John of the Cross\, Confessor & Doctor of the Church
DESCRIPTION:<p>Also the Commemoration of <em>St. Chrysogonus\, Martyr</em>.</p>
 <p>Proper on pages 1596\, 1032.&nbsp\; Common Preface on page 886.</p>
END:VEVENT
BEGIN:VEVENT
DTSTAMP;VALUE=DATE-TIME:20260421T155030Z
DTSTART;VALUE=DATE-TIME:20181129T181000Z
DTEND;VALUE=DATE-TIME:20181129T181000Z
UID:http://www.saintrosequincy.org/content/mass-nov-29-st-saturninus-martyr
URL;VALUE=URI:http://www.saintrosequincy.org/content/mass-nov-29-st-saturninus-martyr
SUMMARY:Mass of Nov. 29\: St Saturninus\, Martyr
DESCRIPTION:<p>Proper on page 1095. Common Preface on page 886.</p>
 <p>&nbsp\;</p>
 <p>&nbsp\;</p>
 <p>&nbsp\;</p>
END:VEVENT
BEGIN:VEVENT
DTSTAMP;VALUE=DATE-TIME:20260421T155030Z
DTSTART;VALUE=DATE-TIME:20181201T140000Z
DTEND;VALUE=DATE-TIME:20181201T140000Z
UID:http://www.saintrosequincy.org/content/mass-dec-1-votive-mass-immaculate-heart-mary
URL;VALUE=URI:http://www.saintrosequincy.org/content/mass-dec-1-votive-mass-immaculate-heart-mary
SUMMARY:Mass of Dec. 1\: Votive Mass of the Immaculate Heart of Mary
DESCRIPTION:<p>Proper on pages 1448 &amp\; 1105. Proper of the Blessed Virgin on page 884.</p>
END:VEVENT
BEGIN:VEVENT
DTSTAMP;VALUE=DATE-TIME:20260421T155030Z
DTSTART;VALUE=DATE-TIME:20181209T140000Z
DTEND;VALUE=DATE-TIME:20181209T140000Z
UID:http://www.saintrosequincy.org/content/masses-dec-9-second-sunday-advent
URL;VALUE=URI:http://www.saintrosequincy.org/content/masses-dec-9-second-sunday-advent
SUMMARY:Masses of Dec. 9\: Second Sunday of Advent
DESCRIPTION:<p>Low Mass at 8\:00am\; High Mass at 10\:30am.&nbsp\; Please join us in the hall for refreshments after either Mass.</p>
 <p>Proper on page 149.&nbsp\; Preface of Advent on page 878.</p>
END:VEVENT
BEGIN:VEVENT
DTSTAMP;VALUE=DATE-TIME:20260421T155030Z
DTSTART;VALUE=DATE-TIME:20181222T140000Z
DTEND;VALUE=DATE-TIME:20181222T140000Z
UID:http://www.saintrosequincy.org/content/mass-dec-22-ember-saturday-advent
URL;VALUE=URI:http://www.saintrosequincy.org/content/mass-dec-22-ember-saturday-advent
SUMMARY:Mass of Dec. 22\: Ember Saturday of Advent
DESCRIPTION:<p>Proper on page 167.&nbsp\; Preface of Advent on page 878.</p>
 
END:VEVENT
END:VCALENDAR
