BEGIN:VCALENDAR
VERSION:2.0
METHOD:PUBLISH
X-WR-CALNAME:Saint Rose of Lima Catholic Church |  September 16 2018- September 23 2018
PRODID:-//strange bird labs//Drupal iCal API//EN
BEGIN:VEVENT
DTSTAMP;VALUE=DATE-TIME:20260420T010659Z
DTSTART;VALUE=DATE-TIME:20180918T181000Z
DTEND;VALUE=DATE-TIME:20180918T181000Z
UID:http://www.saintrosequincy.org/content/mass-sept-18-st-joseph-cupertino-confessor
URL;VALUE=URI:http://www.saintrosequincy.org/content/mass-sept-18-st-joseph-cupertino-confessor
SUMMARY:Mass of Sept. 18\: St. Joseph of Cupertino\, Confessor
DESCRIPTION:<p>Proper on pages 1490\, 285\, 849\, 1040.&nbsp\; Common Preface on page 886.</p>
END:VEVENT
BEGIN:VEVENT
DTSTAMP;VALUE=DATE-TIME:20260420T010659Z
DTSTART;VALUE=DATE-TIME:20180922T181000Z
DTEND;VALUE=DATE-TIME:20180922T181000Z
UID:http://www.saintrosequincy.org/content/mass-sept-22-ember-saturday
URL;VALUE=URI:http://www.saintrosequincy.org/content/mass-sept-22-ember-saturday
SUMMARY:Mass of Sept. 22\: Ember Saturday
DESCRIPTION:<p>Also the Commemoration of St. Thomas of Villanova\, Bishop &amp\; Confessor.</p>
 <p>Proper on pages 835\, 1495\, 1023. &nbsp\;Common Preface on page 886.</p>
END:VEVENT
END:VCALENDAR
