BEGIN:VCALENDAR
VERSION:2.0
METHOD:PUBLISH
X-WR-CALNAME:Saint Rose of Lima Catholic Church |  July 29 2018- August 28 2018
PRODID:-//strange bird labs//Drupal iCal API//EN
BEGIN:VEVENT
DTSTAMP;VALUE=DATE-TIME:20260421T175740Z
DTSTART;VALUE=DATE-TIME:20180802T181000Z
DTEND;VALUE=DATE-TIME:20180802T181000Z
UID:http://www.saintrosequincy.org/content/mass-aug-2-st-alphonsus-mary-de-ligouri-bishop-confessor-and-doctor-church
URL;VALUE=URI:http://www.saintrosequincy.org/content/mass-aug-2-st-alphonsus-mary-de-ligouri-bishop-confessor-and-doctor-church
SUMMARY:Mass of Aug. 2\: St. Alphonsus Mary de Ligouri\, Bishop\, Confessor\, and Doctor of the Church
DESCRIPTION:<p>Mass at 12\:10pm. Also the Commemoration of <em>St. Stephen I\, Pope and Martyr</em>.</p>
 <p>Proper on pages 1404\, 981. &nbsp\;Common Preface on page 886.</p>
END:VEVENT
BEGIN:VEVENT
DTSTAMP;VALUE=DATE-TIME:20260421T175740Z
DTSTART;VALUE=DATE-TIME:20180811T140000Z
DTEND;VALUE=DATE-TIME:20180811T140000Z
UID:http://www.saintrosequincy.org/content/mass-aug-11-ss-tiburtius-susanna-martyrs
URL;VALUE=URI:http://www.saintrosequincy.org/content/mass-aug-11-ss-tiburtius-susanna-martyrs
SUMMARY:Mass of Aug. 11\: Ss. Tiburtius & Susanna\, Martyrs
DESCRIPTION:<p>Proper on pages 1429\, 1009\, 1142.&nbsp\; Common Preface on page 886.</p>
END:VEVENT
BEGIN:VEVENT
DTSTAMP;VALUE=DATE-TIME:20260421T175740Z
DTSTART;VALUE=DATE-TIME:20180813T181000Z
DTEND;VALUE=DATE-TIME:20180813T181000Z
UID:http://www.saintrosequincy.org/content/mass-aug-13-ss-hippolytus-cassian-martyrs
URL;VALUE=URI:http://www.saintrosequincy.org/content/mass-aug-13-ss-hippolytus-cassian-martyrs
SUMMARY:Mass of Aug. 13\: Ss. Hippolytus & Cassian\, Martyrs
DESCRIPTION:<p>Proper on pages 1430\, 1009.&nbsp\; Common Preface on page 886.</p>
END:VEVENT
BEGIN:VEVENT
DTSTAMP;VALUE=DATE-TIME:20260421T175740Z
DTSTART;VALUE=DATE-TIME:20180825T140000Z
DTEND;VALUE=DATE-TIME:20180825T140000Z
UID:http://www.saintrosequincy.org/content/mass-aug-25-st-louis-ix-confessor-king-france
URL;VALUE=URI:http://www.saintrosequincy.org/content/mass-aug-25-st-louis-ix-confessor-king-france
SUMMARY:Mass of Aug. 25\: St. Louis IX\, Confessor & King of France
DESCRIPTION:<p>Proper on pages 1454\, 1037\, 994.&nbsp\; Common Preface on page 886.</p>
END:VEVENT
END:VCALENDAR
