BEGIN:VCALENDAR
VERSION:2.0
METHOD:PUBLISH
X-WR-CALNAME:Saint Rose of Lima Catholic Church |  July 08 2018- July 15 2018
PRODID:-//strange bird labs//Drupal iCal API//EN
BEGIN:VEVENT
DTSTAMP;VALUE=DATE-TIME:20260421T163327Z
DTSTART;VALUE=DATE-TIME:20180709T181000Z
DTEND;VALUE=DATE-TIME:20180709T181000Z
UID:http://www.saintrosequincy.org/content/mass-july-9-sts-john-fisher-and-thomas-more-martyrs
URL;VALUE=URI:http://www.saintrosequincy.org/content/mass-july-9-sts-john-fisher-and-thomas-more-martyrs
SUMMARY:Mass of July 9\: Sts. John Fisher and Thomas More\, Martyrs
DESCRIPTION:<p>Proper on page 1952.&nbsp\; Common Preface on page 886.</p>
END:VEVENT
BEGIN:VEVENT
DTSTAMP;VALUE=DATE-TIME:20260421T163327Z
DTSTART;VALUE=DATE-TIME:20180714T140000Z
DTEND;VALUE=DATE-TIME:20180714T140000Z
UID:http://www.saintrosequincy.org/content/mass-july-14-st-bonaventure-bishop-confessor-and-doctor-church
URL;VALUE=URI:http://www.saintrosequincy.org/content/mass-july-14-st-bonaventure-bishop-confessor-and-doctor-church
SUMMARY:Mass of July 14\: St. Bonaventure\, Bishop\, Confessor\, and Doctor of the Church
DESCRIPTION:<p>Proper on pages 1370\, 1032\, 1027. Common Preface on page 886.</p>
 
END:VEVENT
END:VCALENDAR
