BEGIN:VCALENDAR
VERSION:2.0
METHOD:PUBLISH
X-WR-CALNAME:Saint Rose of Lima Catholic Church |  May 12 2018- June 11 2018
PRODID:-//strange bird labs//Drupal iCal API//EN
BEGIN:VEVENT
DTSTAMP;VALUE=DATE-TIME:20260422T114054Z
DTSTART;VALUE=DATE-TIME:20180512T140000Z
DTEND;VALUE=DATE-TIME:20180512T140000Z
UID:http://www.saintrosequincy.org/content/mass-may-12-ss-nereus-achilleus-domitilla-and-pancras-martyrs
URL;VALUE=URI:http://www.saintrosequincy.org/content/mass-may-12-ss-nereus-achilleus-domitilla-and-pancras-martyrs
SUMMARY:Mass of May 12\: Ss. Nereus\, Achilleus\, Domitilla\, and Pancras\, Martyrs
DESCRIPTION:<p>Proper on page 1270.&nbsp\; Preface for Easter on page 881.</p>
 <p>Nereus and Achilleus were servants of Flavia Domitilla\, who was martyred with them\, A.D. 98.&nbsp\; St. Pancras was put to death at the age of fourteen\, A.D. 304.</p>
END:VEVENT
BEGIN:VEVENT
DTSTAMP;VALUE=DATE-TIME:20260422T114054Z
DTSTART;VALUE=DATE-TIME:20180529T181000Z
DTEND;VALUE=DATE-TIME:20180529T181000Z
UID:http://www.saintrosequincy.org/content/masses-may-29-st-mary-magdalen-pazzi-virgin
URL;VALUE=URI:http://www.saintrosequincy.org/content/masses-may-29-st-mary-magdalen-pazzi-virgin
SUMMARY:Masses of May 29\: St. Mary Magdalen of Pazzi\, Virgin
DESCRIPTION:<p>Special Mass times of 7\:00 am and 12\:10 pm.</p>
 <p>Proper on page 1284.&nbsp\; Preface of the Ascension on page 881.</p>
 <p>St. Mary Magdalen consecrated her virginity to Christ at the age of ten\; she was a Carmelite\, famous for her visions.&nbsp\; Her motto was <em>To suffer and not to die</em>.&nbsp\; She died A.D. 1607.</p>
END:VEVENT
BEGIN:VEVENT
DTSTAMP;VALUE=DATE-TIME:20260422T114054Z
DTSTART;VALUE=DATE-TIME:20180530T181000Z
DTEND;VALUE=DATE-TIME:20180530T181000Z
UID:http://www.saintrosequincy.org/content/masses-may-30-st-joan-arc-virgin-martyr
URL;VALUE=URI:http://www.saintrosequincy.org/content/masses-may-30-st-joan-arc-virgin-martyr
SUMMARY:Masses of May 30\: St. Joan of Arc\, Virgin & Martyr
DESCRIPTION:<p>Special Mass times of 7\:00 am and 12\:10 pm.</p>
 <p>Common Preface on page 886.</p>
 <p>&nbsp\;</p>
END:VEVENT
BEGIN:VEVENT
DTSTAMP;VALUE=DATE-TIME:20260422T114054Z
DTSTART;VALUE=DATE-TIME:20180602T140000Z
DTEND;VALUE=DATE-TIME:20180602T140000Z
UID:http://www.saintrosequincy.org/content/masses-june-2-external-solemnity-ascension-first-holy-communion
URL;VALUE=URI:http://www.saintrosequincy.org/content/masses-june-2-external-solemnity-ascension-first-holy-communion
SUMMARY:Masses of June 2\: External Solemnity of the Ascension\; First Holy Communion
DESCRIPTION:<p>Low Mass at 8\:00am\; High Mass at 10\:30am.&nbsp\;<br />
 Proper on page 692.&nbsp\;&nbsp\;Preface for Ascension on page 881. &nbsp\;Please join us in the hall after either Mass for refreshments.<br />
 &nbsp\;</p>
 
END:VEVENT
END:VCALENDAR
