BEGIN:VCALENDAR
VERSION:2.0
METHOD:PUBLISH
X-WR-CALNAME:Saint Rose of Lima Catholic Church |  January 27 2018- February 26 2018
PRODID:-//strange bird labs//Drupal iCal API//EN
BEGIN:VEVENT
DTSTAMP;VALUE=DATE-TIME:20260419T142818Z
DTSTART;VALUE=DATE-TIME:20180215T181000Z
DTEND;VALUE=DATE-TIME:20180215T181000Z
UID:http://www.saintrosequincy.org/content/mass-feb-15-thursday-after-ash-wednesday
URL;VALUE=URI:http://www.saintrosequincy.org/content/mass-feb-15-thursday-after-ash-wednesday
SUMMARY:Mass of Feb. 15\: Thursday after Ash Wednesday
DESCRIPTION:<p>Also the Commemoration of <strong>Ss. Faustinus &amp\; Jovita\, Martyrs</strong>.<br />
 Proper on pages 298\, 1202\, 1189. Proper for Lent on page 880.</p>
 
END:VEVENT
END:VCALENDAR
